BEGIN:VCALENDAR
VERSION:2.0
PRODID:-//Sabre//Sabre VObject 4.5.8//EN
CALSCALE:GREGORIAN
BEGIN:VEVENT
UID:sabre-vobject-67f177ea-08ce-4a29-b021-46b2c7a176bf
DTSTAMP:20260425T182555Z
SUMMARY:Pfarrgottesdienst
DESCRIPTION:https://www2.bistum-augsburg.de/gottesdienste/pfarrgottesdienst
 _id1540560
DTSTART;TZID=Europe/Berlin:20260719T083000
DURATION:PT30M
LOCATION:St. Michael
END:VEVENT
END:VCALENDAR
