BEGIN:VCALENDAR
VERSION:2.0
PRODID:-//Sabre//Sabre VObject 4.5.8//EN
CALSCALE:GREGORIAN
BEGIN:VEVENT
UID:sabre-vobject-5e34bc61-3782-48f1-8bdb-ab113a21bed2
DTSTAMP:20260425T165526Z
SUMMARY:Heilige Messe
DESCRIPTION:https://www2.bistum-augsburg.de/gottesdienste/heilige-messe_id1
 540899
DTSTART;TZID=Europe/Berlin:20261216T160000
DURATION:PT30M
LOCATION:St. Michael
END:VEVENT
END:VCALENDAR
