BEGIN:VCALENDAR
VERSION:2.0
PRODID:-//Sabre//Sabre VObject 4.5.8//EN
CALSCALE:GREGORIAN
BEGIN:VEVENT
UID:sabre-vobject-bcccbf0b-6948-4769-bb5a-939701496bcb
DTSTAMP:20260426T005048Z
SUMMARY:Heilige Messe
DESCRIPTION:https://www2.bistum-augsburg.de/gottesdienste/heilige-messe_id1
 598907
DTSTART;TZID=Europe/Berlin:20261108T083000
DURATION:PT30M
LOCATION:St. Stephan
END:VEVENT
END:VCALENDAR
