BEGIN:VCALENDAR
VERSION:2.0
PRODID:-//Sabre//Sabre VObject 4.5.8//EN
CALSCALE:GREGORIAN
BEGIN:VEVENT
UID:sabre-vobject-d39c9fd6-3923-417c-96ab-c336b9062cb8
DTSTAMP:20260425T201933Z
SUMMARY:Vorabendmesse
DESCRIPTION:https://www2.bistum-augsburg.de/gottesdienste/vorabendmesse_id1
 598967
DTSTART;TZID=Europe/Berlin:20261121T180000
DURATION:PT30M
LOCATION:St. Martin
END:VEVENT
END:VCALENDAR
