BEGIN:VCALENDAR
VERSION:2.0
PRODID:-//Sabre//Sabre VObject 4.5.8//EN
CALSCALE:GREGORIAN
BEGIN:VEVENT
UID:sabre-vobject-b1449b54-330b-45ec-8993-bee716a4a759
DTSTAMP:20260425T182635Z
SUMMARY:Rosenkranz
DESCRIPTION:https://www2.bistum-augsburg.de/gottesdienste/rosenkranz_id1598
 970
DTSTART;TZID=Europe/Berlin:20261129T170000
DURATION:PT30M
LOCATION:St. Martin
END:VEVENT
END:VCALENDAR
