BEGIN:VCALENDAR
VERSION:2.0
PRODID:-//Sabre//Sabre VObject 4.5.8//EN
CALSCALE:GREGORIAN
BEGIN:VEVENT
UID:sabre-vobject-3f4202b5-fbe0-4055-ba0e-271106c229b2
DTSTAMP:20260425T182631Z
SUMMARY:Vorabendmesse
DESCRIPTION:https://www2.bistum-augsburg.de/gottesdienste/vorabendmesse_id1
 599046
DTSTART;TZID=Europe/Berlin:20260523T190000
DURATION:PT30M
LOCATION:St. Martin
END:VEVENT
END:VCALENDAR
