BEGIN:VCALENDAR
VERSION:2.0
PRODID:-//Sabre//Sabre VObject 4.5.8//EN
CALSCALE:GREGORIAN
BEGIN:VEVENT
UID:sabre-vobject-5cda5b47-6fab-4e95-b5ab-5feea7fec70e
DTSTAMP:20260426T013654Z
SUMMARY:Vorabendmesse
DESCRIPTION:https://www2.bistum-augsburg.de/gottesdienste/vorabendmesse_id1
 599212
DTSTART;TZID=Europe/Berlin:20260718T190000
DURATION:PT30M
LOCATION:St. Martin
END:VEVENT
END:VCALENDAR
