BEGIN:VCALENDAR
VERSION:2.0
PRODID:-//Sabre//Sabre VObject 4.5.8//EN
CALSCALE:GREGORIAN
BEGIN:VEVENT
UID:sabre-vobject-98abc231-14b8-415c-bdcd-cd7dbdc92939
DTSTAMP:20260425T183152Z
SUMMARY:Heilige Messe
DESCRIPTION:https://www2.bistum-augsburg.de/gottesdienste/heilige-messe_id1
 599275
DTSTART;TZID=Europe/Berlin:20261025T083000
DURATION:PT30M
LOCATION:St. Stephan
END:VEVENT
END:VCALENDAR
