BEGIN:VCALENDAR
VERSION:2.0
PRODID:-//Sabre//Sabre VObject 4.5.8//EN
CALSCALE:GREGORIAN
BEGIN:VEVENT
UID:sabre-vobject-54a13643-8015-4eb6-a426-d53201c8b202
DTSTAMP:20260426T022213Z
SUMMARY:Rosenkranz
DESCRIPTION:https://www2.bistum-augsburg.de/gottesdienste/rosenkranz_id1599
 284
DTSTART;TZID=Europe/Berlin:20260906T183000
DURATION:PT30M
LOCATION:St. Martin
END:VEVENT
END:VCALENDAR
