BEGIN:VCALENDAR
VERSION:2.0
PRODID:-//Sabre//Sabre VObject 4.5.8//EN
CALSCALE:GREGORIAN
BEGIN:VEVENT
UID:sabre-vobject-592c169e-700a-40d5-bc63-ad7e4e826d88
DTSTAMP:20260426T032400Z
SUMMARY:Rosenkranz
DESCRIPTION:https://www2.bistum-augsburg.de/gottesdienste/rosenkranz_id1599
 287
DTSTART;TZID=Europe/Berlin:20260913T183000
DURATION:PT30M
LOCATION:St. Martin
END:VEVENT
END:VCALENDAR
