BEGIN:VCALENDAR
VERSION:2.0
PRODID:-//Sabre//Sabre VObject 4.5.8//EN
CALSCALE:GREGORIAN
BEGIN:VEVENT
UID:sabre-vobject-ac581bd5-c50f-4c9b-a926-f20adff502f5
DTSTAMP:20260425T225812Z
SUMMARY:Rosenkranz
DESCRIPTION:https://www2.bistum-augsburg.de/gottesdienste/rosenkranz_id1599
 291
DTSTART;TZID=Europe/Berlin:20260927T183000
DURATION:PT30M
LOCATION:St. Martin
END:VEVENT
END:VCALENDAR
