BEGIN:VCALENDAR
VERSION:2.0
PRODID:-//Sabre//Sabre VObject 4.5.8//EN
CALSCALE:GREGORIAN
BEGIN:VEVENT
UID:sabre-vobject-9e5f8097-a6ad-461f-9af1-fec6193622e3
DTSTAMP:20260426T021148Z
SUMMARY:Heilige Messe
DESCRIPTION:https://www2.bistum-augsburg.de/gottesdienste/heilige-messe_id1
 599292
DTSTART;TZID=Europe/Berlin:20261004T083000
DURATION:PT30M
LOCATION:St. Martin
END:VEVENT
END:VCALENDAR
