BEGIN:VCALENDAR
VERSION:2.0
PRODID:-//Sabre//Sabre VObject 4.5.8//EN
CALSCALE:GREGORIAN
BEGIN:VEVENT
UID:sabre-vobject-8252b718-bb93-4599-bf4c-5aa5f7914d8b
DTSTAMP:20260426T035503Z
SUMMARY:Vorabendmesse
DESCRIPTION:https://www2.bistum-augsburg.de/gottesdienste/vorabendmesse_id1
 599294
DTSTART;TZID=Europe/Berlin:20261010T190000
DURATION:PT30M
LOCATION:St. Martin
END:VEVENT
END:VCALENDAR
