BEGIN:VCALENDAR
VERSION:2.0
PRODID:-//Sabre//Sabre VObject 4.5.8//EN
CALSCALE:GREGORIAN
BEGIN:VEVENT
UID:sabre-vobject-f954e4c2-a07c-414e-b65a-3ed3f04452c5
DTSTAMP:20260426T034740Z
SUMMARY:Heilige Messe - ancshließend Gräbersegnung
DESCRIPTION:https://www2.bistum-augsburg.de/gottesdienste/heilige-messe-anc
 shliessend-graebersegnung_id1599438
DTSTART;TZID=Europe/Berlin:20261101T140000
DURATION:PT30M
LOCATION:St. Martin
END:VEVENT
END:VCALENDAR
