BEGIN:VCALENDAR
VERSION:2.0
PRODID:-//Sabre//Sabre VObject 4.5.8//EN
CALSCALE:GREGORIAN
BEGIN:VEVENT
UID:sabre-vobject-216d4469-09cb-4360-afec-d3cadbb37edf
DTSTAMP:20260426T003702Z
SUMMARY:Heilige Messe PATROZINIUM
DESCRIPTION:https://www2.bistum-augsburg.de/gottesdienste/heilige-messe-pat
 rozinium_id1599497
DTSTART;TZID=Europe/Berlin:20260806T000000
DURATION:PT30M
LOCATION:Verklärung Christi\, Kirchenweg 3\, 85296 Rohrbach
END:VEVENT
END:VCALENDAR
