BEGIN:VCALENDAR
VERSION:2.0
PRODID:-//Sabre//Sabre VObject 4.5.8//EN
CALSCALE:GREGORIAN
BEGIN:VEVENT
UID:sabre-vobject-697acb38-723f-4e26-83f2-9215810c2ff4
DTSTAMP:20260424T200302Z
SUMMARY:Bittgang Lohwinden\, Treffpunkt zum Bittgang an der Staatsstrasse
DESCRIPTION:https://www2.bistum-augsburg.de/gottesdienste/bittgang-lohwinde
 n-treffpunkt-zum-bittgang-an-der-staatsstrasse_id1599672
DTSTART;TZID=Europe/Berlin:20260713T190000
DURATION:PT30M
LOCATION:Verklärung Christi\, Kirchenweg 3\, 85296 Rohrbach
END:VEVENT
END:VCALENDAR
