BEGIN:VCALENDAR
VERSION:2.0
PRODID:-//Sabre//Sabre VObject 4.5.8//EN
CALSCALE:GREGORIAN
BEGIN:VEVENT
UID:sabre-vobject-ce016cde-578e-4af1-a149-7cb749329070
DTSTAMP:20260425T024545Z
SUMMARY:Bittgang nach Lohwinden\nTreffpunkt an der Staatsstrasse \njedes Ja
 hr am 13. egal welcher Wochentag
DESCRIPTION:https://www2.bistum-augsburg.de/gottesdienste/bittgang-nach-loh
 winden-treffpunkt-an-der-staatsstrasse-jedes-jahr-am-13-egal-welcher-woche
 ntag_id1599673
DTSTART;TZID=Europe/Berlin:20260713T190000
DURATION:PT30M
LOCATION:Verklärung Christi\, Kirchenweg 3\, 85296 Rohrbach
END:VEVENT
END:VCALENDAR
