BEGIN:VCALENDAR
VERSION:2.0
PRODID:-//Sabre//Sabre VObject 4.5.8//EN
CALSCALE:GREGORIAN
BEGIN:VEVENT
UID:sabre-vobject-fcd58e0a-0c15-4b2e-bc2f-5b8bec1ab07f
DTSTAMP:20260425T230543Z
SUMMARY:Firmung Maria Ward Gymnasium
DESCRIPTION:https://www2.bistum-augsburg.de/gottesdienste/firmung-maria-war
 d-gymnasium_id1616064
DTSTART;TZID=Europe/Berlin:20260717T093000
DURATION:PT30M
LOCATION:Augsburger Dom Hlgst. Herz Jesu\, Frauentorstraße 1\, 86152 Augsb
 urg-Dom
END:VEVENT
END:VCALENDAR
