BEGIN:VCALENDAR
VERSION:2.0
PRODID:-//Sabre//Sabre VObject 4.5.8//EN
CALSCALE:GREGORIAN
BEGIN:VEVENT
UID:sabre-vobject-142d076c-ed65-4639-8c7c-8e4739fb8616
DTSTAMP:20260424T232511Z
SUMMARY:Weihnachtlicher Gottesdienst mit Eucharistiefeier für Kinder und d
 . Familien mit Krippenspiel
DESCRIPTION:https://www2.bistum-augsburg.de/gottesdienste/weihnachtlicher-g
 ottesdienst-mit-eucharistiefeier-fuer-kinder-und-d-familien-mit-krippenspi
 el_id1616332
DTSTART;TZID=Europe/Berlin:20261224T163000
DURATION:PT30M
LOCATION:Augsburger Dom Hlgst. Herz Jesu\, Frauentorstraße 1\, 86152 Augsb
 urg-Dom
END:VEVENT
END:VCALENDAR
