BEGIN:VCALENDAR
VERSION:2.0
PRODID:-//Sabre//Sabre VObject 4.5.8//EN
CALSCALE:GREGORIAN
BEGIN:VEVENT
UID:sabre-vobject-40e08688-2b65-48db-b3bc-c8117d4404b3
DTSTAMP:20260426T022220Z
SUMMARY:Laudes\, Hl. Messe nach Meinung des Domkapitels
DESCRIPTION:https://www2.bistum-augsburg.de/gottesdienste/laudes-hl-messe-n
 ach-meinung-des-domkapitels_id1616814
DTSTART;TZID=Europe/Berlin:20261102T070000
DURATION:PT30M
LOCATION:Augsburger Dom Hlgst. Herz Jesu\, Frauentorstraße 1\, 86152 Augsb
 urg-Dom
END:VEVENT
END:VCALENDAR
