BEGIN:VCALENDAR
VERSION:2.0
PRODID:-//Sabre//Sabre VObject 4.5.8//EN
CALSCALE:GREGORIAN
BEGIN:VEVENT
UID:sabre-vobject-4e9a29be-d1fe-4cdd-b937-21b4b65650df
DTSTAMP:20260425T212750Z
SUMMARY:Kapitelamt
DESCRIPTION:https://www2.bistum-augsburg.de/gottesdienste/kapitelamt_id1616
 886
DTSTART;TZID=Europe/Berlin:20261108T090000
DURATION:PT30M
LOCATION:Augsburger Dom Hlgst. Herz Jesu\, Frauentorstraße 1\, 86152 Augsb
 urg-Dom
END:VEVENT
END:VCALENDAR
