BEGIN:VCALENDAR
VERSION:2.0
PRODID:-//Sabre//Sabre VObject 4.5.8//EN
CALSCALE:GREGORIAN
BEGIN:VEVENT
UID:sabre-vobject-ab4b150a-dade-4d5a-a56d-a1c3ec00c2d6
DTSTAMP:20260425T193419Z
SUMMARY:Pontifikalamt und Pfarrgottesdienst
DESCRIPTION:https://www2.bistum-augsburg.de/gottesdienste/pontifikalamt-und
 -pfarrgottesdienst_id1616912
DTSTART;TZID=Europe/Berlin:20261225T103000
DURATION:PT30M
LOCATION:Augsburger Dom Hlgst. Herz Jesu\, Frauentorstraße 1\, 86152 Augsb
 urg-Dom
END:VEVENT
END:VCALENDAR
