BEGIN:VCALENDAR
VERSION:2.0
PRODID:-//Sabre//Sabre VObject 4.5.8//EN
CALSCALE:GREGORIAN
BEGIN:VEVENT
UID:sabre-vobject-2bdade00-4e01-40da-9759-467c0f0721f5
DTSTAMP:20260425T162957Z
SUMMARY:Laudes\, Hl. Messe nach Meinung des Domkapitels
DESCRIPTION:https://www2.bistum-augsburg.de/gottesdienste/laudes-hl-messe-n
 ach-meinung-des-domkapitels_id1616927
DTSTART;TZID=Europe/Berlin:20261228T070000
DURATION:PT30M
LOCATION:Augsburger Dom Hlgst. Herz Jesu\, Frauentorstraße 1\, 86152 Augsb
 urg-Dom
END:VEVENT
END:VCALENDAR
