BEGIN:VCALENDAR
VERSION:2.0
PRODID:-//Sabre//Sabre VObject 4.5.8//EN
CALSCALE:GREGORIAN
BEGIN:VEVENT
UID:sabre-vobject-82603e7a-65b0-4783-beb4-01881cc53a4a
DTSTAMP:20260424T214956Z
SUMMARY:Pontifikalamt und Pfarrgottesdienst
DESCRIPTION:https://www2.bistum-augsburg.de/gottesdienste/pontifikalamt-und
 -pfarrgottesdienst_id1616952
DTSTART;TZID=Europe/Berlin:20260514T103000
DURATION:PT30M
LOCATION:Augsburger Dom Hlgst. Herz Jesu\, Frauentorstraße 1\, 86152 Augsb
 urg-Dom
END:VEVENT
END:VCALENDAR
