BEGIN:VCALENDAR
VERSION:2.0
PRODID:-//Sabre//Sabre VObject 4.5.8//EN
CALSCALE:GREGORIAN
BEGIN:VEVENT
UID:sabre-vobject-1b78234b-2512-4c31-95de-f587748792bb
DTSTAMP:20260424T143930Z
SUMMARY:Cantate Domino: Orgelmusik und gregorianischer Choral - Vocem iucun
 ditatis annuitate (Schola des Karl-Kraf.Chors)
DESCRIPTION:https://www2.bistum-augsburg.de/gottesdienste/cantate-domino-or
 gelmusik-und-gregorianischer-choral-vocem-iucunditatis-annuitate-schola-de
 s-karl-kraf-chors_id1617180
DTSTART;TZID=Europe/Berlin:20260509T180000
DURATION:PT30M
LOCATION:Augsburger Dom Hlgst. Herz Jesu\, Frauentorstraße 1\, 86152 Augsb
 urg-Dom
END:VEVENT
END:VCALENDAR
