BEGIN:VCALENDAR
VERSION:2.0
PRODID:-//Sabre//Sabre VObject 4.5.8//EN
CALSCALE:GREGORIAN
BEGIN:VEVENT
UID:sabre-vobject-68f1459b-fe7b-4a46-8ce8-8ca8f58ab244
DTSTAMP:20260424T200303Z
SUMMARY:Maiandacht mit den Kolpingfamilien - Bezirk Augsburg Mitte
DESCRIPTION:https://www2.bistum-augsburg.de/gottesdienste/maiandacht-mit-de
 n-kolpingfamilien-bezirk-augsburg-mitte_id1617315
DTSTART;TZID=Europe/Berlin:20260521T190000
DURATION:PT30M
LOCATION:Augsburger Dom Hlgst. Herz Jesu\, Frauentorstraße 1\, 86152 Augsb
 urg-Dom
END:VEVENT
END:VCALENDAR
