BEGIN:VCALENDAR
VERSION:2.0
PRODID:-//Sabre//Sabre VObject 4.5.8//EN
CALSCALE:GREGORIAN
BEGIN:VEVENT
UID:sabre-vobject-ba9b27ac-914b-4042-922c-6a7f52322229
DTSTAMP:20260425T193424Z
SUMMARY:Pontifikalamt und Pfarrgottesdienst
DESCRIPTION:https://www2.bistum-augsburg.de/gottesdienste/pontifikalamt-und
 -pfarrgottesdienst_id1617525
DTSTART;TZID=Europe/Berlin:20260525T103000
DURATION:PT30M
LOCATION:Augsburger Dom Hlgst. Herz Jesu\, Frauentorstraße 1\, 86152 Augsb
 urg-Dom
END:VEVENT
END:VCALENDAR
