BEGIN:VCALENDAR
VERSION:2.0
PRODID:-//Sabre//Sabre VObject 4.5.8//EN
CALSCALE:GREGORIAN
BEGIN:VEVENT
UID:sabre-vobject-9aaa3e44-f4ee-4de7-aeef-8ce5c012fa9d
DTSTAMP:20260425T000758Z
SUMMARY:Cantate Domino: Orgelmusik und gregorianischer Choral - Benedicta s
 it sancta Trinitas (Schola des Domchors)
DESCRIPTION:https://www2.bistum-augsburg.de/gottesdienste/cantate-domino-or
 gelmusik-und-gregorianischer-choral-benedicta-sit-sancta-trinitas-schola-d
 es-domchors_id1617590
DTSTART;TZID=Europe/Berlin:20260530T180000
DURATION:PT30M
LOCATION:Augsburger Dom Hlgst. Herz Jesu\, Frauentorstraße 1\, 86152 Augsb
 urg-Dom
END:VEVENT
END:VCALENDAR
