BEGIN:VCALENDAR
VERSION:2.0
PRODID:-//Sabre//Sabre VObject 4.5.8//EN
CALSCALE:GREGORIAN
BEGIN:VEVENT
UID:sabre-vobject-5ed1a13e-2a8e-43db-8dd3-a7718b004cf2
DTSTAMP:20260425T133245Z
SUMMARY:Hl. Messe
DESCRIPTION:https://www2.bistum-augsburg.de/gottesdienste/hl-messe_id161770
 0
DTSTART;TZID=Europe/Berlin:20260805T093000
DURATION:PT30M
LOCATION:Augsburger Dom Hlgst. Herz Jesu\, Frauentorstraße 1\, 86152 Augsb
 urg-Dom
END:VEVENT
END:VCALENDAR
