BEGIN:VCALENDAR
VERSION:2.0
PRODID:-//Sabre//Sabre VObject 4.5.8//EN
CALSCALE:GREGORIAN
BEGIN:VEVENT
UID:sabre-vobject-a2008839-2f3f-4764-ab28-615bf7b4fdd3
DTSTAMP:20260425T225805Z
SUMMARY:Priesterdonnerstag
DESCRIPTION:https://www2.bistum-augsburg.de/gottesdienste/priesterdonnersta
 g_id1617747
DTSTART;TZID=Europe/Berlin:20260806T000000
DURATION:PT30M
LOCATION:Augsburger Dom Hlgst. Herz Jesu\, Frauentorstraße 1\, 86152 Augsb
 urg-Dom
END:VEVENT
END:VCALENDAR
