BEGIN:VCALENDAR
VERSION:2.0
PRODID:-//Sabre//Sabre VObject 4.5.8//EN
CALSCALE:GREGORIAN
BEGIN:VEVENT
UID:sabre-vobject-74c37a73-92a5-486d-a463-5c0d9ebe7008
DTSTAMP:20260425T150108Z
SUMMARY:Hl. Messe
DESCRIPTION:https://www2.bistum-augsburg.de/gottesdienste/hl-messe_id161774
 9
DTSTART;TZID=Europe/Berlin:20260806T093000
DURATION:PT30M
LOCATION:Augsburger Dom Hlgst. Herz Jesu\, Frauentorstraße 1\, 86152 Augsb
 urg-Dom
END:VEVENT
END:VCALENDAR
