BEGIN:VCALENDAR
VERSION:2.0
PRODID:-//Sabre//Sabre VObject 4.5.8//EN
CALSCALE:GREGORIAN
BEGIN:VEVENT
UID:sabre-vobject-fb166932-141e-4df8-8a1a-bcf83e6373b4
DTSTAMP:20260425T215312Z
SUMMARY:Laudes\, Hl. Messe nach Meinung des Domkapitels
DESCRIPTION:https://www2.bistum-augsburg.de/gottesdienste/laudes-hl-messe-n
 ach-meinung-des-domkapitels_id1617803
DTSTART;TZID=Europe/Berlin:20260706T070000
DURATION:PT30M
LOCATION:Augsburger Dom Hlgst. Herz Jesu\, Frauentorstraße 1\, 86152 Augsb
 urg-Dom
END:VEVENT
END:VCALENDAR
