BEGIN:VCALENDAR
VERSION:2.0
PRODID:-//Sabre//Sabre VObject 4.5.8//EN
CALSCALE:GREGORIAN
BEGIN:VEVENT
UID:sabre-vobject-de62a18a-a2e4-4f0f-97e1-fb70ae722cb0
DTSTAMP:20260426T020253Z
SUMMARY:Laudes\, Hl. Messe nach Meinung des Domkapitels
DESCRIPTION:https://www2.bistum-augsburg.de/gottesdienste/laudes-hl-messe-n
 ach-meinung-des-domkapitels_id1618114
DTSTART;TZID=Europe/Berlin:20271220T070000
DURATION:PT30M
LOCATION:Augsburger Dom Hlgst. Herz Jesu\, Frauentorstraße 1\, 86152 Augsb
 urg-Dom
END:VEVENT
END:VCALENDAR
