BEGIN:VCALENDAR
VERSION:2.0
PRODID:-//Sabre//Sabre VObject 4.5.8//EN
CALSCALE:GREGORIAN
BEGIN:VEVENT
UID:sabre-vobject-dc131514-d595-40ce-b2a3-8b32d48e2d8b
DTSTAMP:20260426T014324Z
SUMMARY:Pontifikalvesper mit  Bischof Dr. Bertram Meier
DESCRIPTION:https://www2.bistum-augsburg.de/gottesdienste/pontifikalvesper-
 mit-bischof-dr-bertram-meier_id1618282
DTSTART;TZID=Europe/Berlin:20271225T170000
DURATION:PT30M
LOCATION:Augsburger Dom Hlgst. Herz Jesu\, Frauentorstraße 1\, 86152 Augsb
 urg-Dom
END:VEVENT
END:VCALENDAR
