BEGIN:VCALENDAR
VERSION:2.0
PRODID:-//Sabre//Sabre VObject 4.5.8//EN
CALSCALE:GREGORIAN
BEGIN:VEVENT
UID:sabre-vobject-bf870f65-4c77-45b9-92ea-a433e494aa52
DTSTAMP:20260425T133811Z
SUMMARY:Rorate - Messe
DESCRIPTION:https://www2.bistum-augsburg.de/gottesdienste/rorate-messe_id16
 18342
DTSTART;TZID=Europe/Berlin:20261211T063000
DURATION:PT30M
LOCATION:Augsburger Dom Hlgst. Herz Jesu\, Frauentorstraße 1\, 86152 Augsb
 urg-Dom
END:VEVENT
END:VCALENDAR
