BEGIN:VCALENDAR
VERSION:2.0
PRODID:-//Sabre//Sabre VObject 4.5.8//EN
CALSCALE:GREGORIAN
BEGIN:VEVENT
UID:sabre-vobject-84143824-69db-4302-a879-48efc93d3519
DTSTAMP:20260425T235209Z
SUMMARY:Heilige Messe zur Familienwallfahrt in Fraunbrunn\, Anschl. Umtrunk
  \n(Bei schlechtem Wetter im Pfarrheim Gundremmingen)
DESCRIPTION:https://www2.bistum-augsburg.de/gottesdienste/heilige-messe-zur
 -familienwallfahrt-in-fraunbrunn-anschl-umtrunk-bei-schlechtem-wetter-im-p
 farrheim-gundremmingen_id1655795
DTSTART;TZID=Europe/Berlin:20260726T170000
DURATION:PT30M
LOCATION:St. Martin
END:VEVENT
END:VCALENDAR
