BEGIN:VCALENDAR
VERSION:2.0
PRODID:-//Sabre//Sabre VObject 4.5.8//EN
CALSCALE:GREGORIAN
BEGIN:VEVENT
UID:sabre-vobject-d2d2558c-7d2d-444e-b34d-b97cf420f726
DTSTAMP:20260424T233419Z
SUMMARY:Heilige Messe in der Feldkapelle St. Josef
DESCRIPTION:https://www2.bistum-augsburg.de/gottesdienste/heilige-messe-in-
 der-feldkapelle-st-josef_id1655894
DTSTART;TZID=Europe/Berlin:20260724T183000
DURATION:PT30M
LOCATION:St. Ursula\, \, 89362 Offingen
END:VEVENT
END:VCALENDAR
