BEGIN:VCALENDAR
VERSION:2.0
PRODID:-//Sabre//Sabre VObject 4.5.8//EN
CALSCALE:GREGORIAN
BEGIN:VEVENT
UID:sabre-vobject-068a1c64-1ccf-4634-b5c8-50901671f737
DTSTAMP:20260425T185111Z
SUMMARY:Heilige Messe \n150 jähriges Bestehen der FFW Schnuttenbach
DESCRIPTION:https://www2.bistum-augsburg.de/gottesdienste/heilige-messe-150
 -jaehriges-bestehen-der-ffw-schnuttenbach_id1655895
DTSTART;TZID=Europe/Berlin:20260726T090000
DURATION:PT30M
LOCATION:St. Ursula\, \, 89362 Offingen
END:VEVENT
END:VCALENDAR
