BEGIN:VCALENDAR
VERSION:2.0
PRODID:-//Sabre//Sabre VObject 4.5.8//EN
CALSCALE:GREGORIAN
BEGIN:VEVENT
UID:sabre-vobject-9779dad2-b3dc-4ff1-8238-8de900c74e96
DTSTAMP:20260425T030430Z
SUMMARY:Rosenkranz in der Feldkapelle St. Josef
DESCRIPTION:https://www2.bistum-augsburg.de/gottesdienste/rosenkranz-in-der
 -feldkapelle-st-josef_id1656030
DTSTART;TZID=Europe/Berlin:20261016T180000
DURATION:PT30M
LOCATION:St. Ursula\, \, 89362 Offingen
END:VEVENT
END:VCALENDAR
