BEGIN:VCALENDAR
VERSION:2.0
PRODID:-//Sabre//Sabre VObject 4.5.8//EN
CALSCALE:GREGORIAN
BEGIN:VEVENT
UID:sabre-vobject-56907684-c1c0-4ecf-9e12-f7a74229770c
DTSTAMP:20260425T010341Z
SUMMARY:Rosenkranz in der Feldkapelle St. Josef
DESCRIPTION:https://www2.bistum-augsburg.de/gottesdienste/rosenkranz-in-der
 -feldkapelle-st-josef_id1656069
DTSTART;TZID=Europe/Berlin:20261120T180000
DURATION:PT30M
LOCATION:St. Ursula\, \, 89362 Offingen
END:VEVENT
END:VCALENDAR
