BEGIN:VCALENDAR
VERSION:2.0
PRODID:-//Sabre//Sabre VObject 4.5.8//EN
CALSCALE:GREGORIAN
BEGIN:VEVENT
UID:sabre-vobject-e1dbfe3c-76b5-461c-980f-bb5e226589c8
DTSTAMP:20260426T003653Z
SUMMARY:Rosenkranz
DESCRIPTION:https://www2.bistum-augsburg.de/gottesdienste/rosenkranz_id1656
 157
DTSTART;TZID=Europe/Berlin:20261228T170000
DURATION:PT30M
LOCATION:St. Ursula\, \, 89362 Offingen
END:VEVENT
END:VCALENDAR
