BEGIN:VCALENDAR
VERSION:2.0
PRODID:-//Sabre//Sabre VObject 4.5.8//EN
CALSCALE:GREGORIAN
BEGIN:VEVENT
UID:sabre-vobject-c40db0df-4a77-4122-a6e8-e1eb4c455327
DTSTAMP:20260424T235315Z
SUMMARY:Hl. Amt
DESCRIPTION:https://www2.bistum-augsburg.de/gottesdienste/hl-amt_id1656169
DTSTART;TZID=Europe/Berlin:20260607T103000
DURATION:PT30M
LOCATION:St. Georg
END:VEVENT
END:VCALENDAR
