BEGIN:VCALENDAR
VERSION:2.0
PRODID:-//Sabre//Sabre VObject 4.5.8//EN
CALSCALE:GREGORIAN
BEGIN:VEVENT
UID:sabre-vobject-f29c47b0-687e-44ad-95c5-9981b053aaf4
DTSTAMP:20260425T135833Z
SUMMARY:Beichtgelegenheit bis 17:00 Uhr - im neuen Beichtstuhl (auch Beicht
 gespräch möglich!!)
DESCRIPTION:https://www2.bistum-augsburg.de/gottesdienste/beichtgelegenheit
 -bis-17-00-uhr-im-neuen-beichtstuhl-auch-beichtgespraech-moeglich_id165617
 3
DTSTART;TZID=Europe/Berlin:20261017T160000
DURATION:PT30M
LOCATION:St. Georg
END:VEVENT
END:VCALENDAR
