BEGIN:VCALENDAR
VERSION:2.0
PRODID:-//Sabre//Sabre VObject 4.5.8//EN
CALSCALE:GREGORIAN
BEGIN:VEVENT
UID:sabre-vobject-14df1417-c042-4255-a3b0-528ed14f000b
DTSTAMP:20260425T131320Z
SUMMARY:Rosenkranz + Beichtgelegenheit
DESCRIPTION:https://www2.bistum-augsburg.de/gottesdienste/rosenkranz-beicht
 gelegenheit_id1656301
DTSTART;TZID=Europe/Berlin:20260903T175500
DURATION:PT30M
LOCATION:St. Georg
END:VEVENT
END:VCALENDAR
