BEGIN:VCALENDAR
VERSION:2.0
PRODID:-//Sabre//Sabre VObject 4.5.8//EN
CALSCALE:GREGORIAN
BEGIN:VEVENT
UID:sabre-vobject-0e5c1e4e-2a44-479a-a247-f2abe1a2fd66
DTSTAMP:20260425T131322Z
SUMMARY:Rosenkranz + Beichtgelegenheit
DESCRIPTION:https://www2.bistum-augsburg.de/gottesdienste/rosenkranz-beicht
 gelegenheit_id1656325
DTSTART;TZID=Europe/Berlin:20261015T175500
DURATION:PT30M
LOCATION:St. Georg
END:VEVENT
END:VCALENDAR
