BEGIN:VCALENDAR
VERSION:2.0
PRODID:-//Sabre//Sabre VObject 4.5.8//EN
CALSCALE:GREGORIAN
BEGIN:VEVENT
UID:sabre-vobject-7c84edd1-1bc4-4abc-b8cb-c091a24912f8
DTSTAMP:20260425T115926Z
SUMMARY:Trauung Melanie und Tobias Hartmann \n
DESCRIPTION:https://www2.bistum-augsburg.de/gottesdienste/trauung-melanie-u
 nd-tobias-hartmann_id1656350
DTSTART;TZID=Europe/Berlin:20261017T130000
DURATION:PT30M
LOCATION:St. Georg
END:VEVENT
END:VCALENDAR
