BEGIN:VCALENDAR
VERSION:2.0
PRODID:-//Sabre//Sabre VObject 4.5.8//EN
CALSCALE:GREGORIAN
BEGIN:VEVENT
UID:sabre-vobject-016b169f-36c4-421d-a3d6-0b3b6d3a239d
DTSTAMP:20260425T224800Z
SUMMARY:Hl. Amt
DESCRIPTION:https://www2.bistum-augsburg.de/gottesdienste/hl-amt_id1656352
DTSTART;TZID=Europe/Berlin:20260906T103000
DURATION:PT30M
LOCATION:St. Georg
END:VEVENT
END:VCALENDAR
