BEGIN:VCALENDAR
VERSION:2.0
PRODID:-//Sabre//Sabre VObject 4.5.8//EN
CALSCALE:GREGORIAN
BEGIN:VEVENT
UID:sabre-vobject-d520894b-7a1f-437d-a2ca-569716f6d343
DTSTAMP:20260426T011330Z
SUMMARY:Rosenkranz
DESCRIPTION:https://www2.bistum-augsburg.de/gottesdienste/rosenkranz_id1656
 369
DTSTART;TZID=Europe/Berlin:20260510T095500
DURATION:PT30M
LOCATION:St. Georg
END:VEVENT
END:VCALENDAR
