BEGIN:VCALENDAR
VERSION:2.0
PRODID:-//Sabre//Sabre VObject 4.5.8//EN
CALSCALE:GREGORIAN
BEGIN:VEVENT
UID:sabre-vobject-cf7fe8a3-976c-4b7f-af7e-43442a9098d4
DTSTAMP:20260425T040722Z
SUMMARY:Hl. Amt
DESCRIPTION:https://www2.bistum-augsburg.de/gottesdienste/hl-amt_id1656370
DTSTART;TZID=Europe/Berlin:20260510T103000
DURATION:PT30M
LOCATION:St. Georg
END:VEVENT
END:VCALENDAR
