BEGIN:VCALENDAR
VERSION:2.0
PRODID:-//Sabre//Sabre VObject 4.5.8//EN
CALSCALE:GREGORIAN
BEGIN:VEVENT
UID:sabre-vobject-b447f182-284d-43ab-a673-ed2c34507beb
DTSTAMP:20260425T141802Z
SUMMARY:"Zeit mit Jesus" Anbetung und Lobpreis mit modernen geistlichen Lie
 dern
DESCRIPTION:https://www2.bistum-augsburg.de/gottesdienste/zeit-mit-jesus-an
 betung-und-lobpreis-mit-modernen-geistlichen-liedern_id1656395
DTSTART;TZID=Europe/Berlin:20260515T200000
DURATION:PT30M
LOCATION:St. Georg
END:VEVENT
END:VCALENDAR
